BEGIN:VCALENDAR
VERSION:2.0
PRODID:-//ExpressionEngine Easy iCalendar plugin//NONSGML v2.0.0//EN
X-WR-TIMEZONE:America/Chicago
X-WR-CALNAME:Upcoming Auctions
BEGIN:VEVENT
UID:15377
DTSTAMP:20171114T100000
DTSTART:20171114T100000
DTEND:20171114T110000
SUMMARY:11\,831 +/-  Acres of East Texas Farm & Ranch Land
LOCATION:35550 F.M. 2495\, Athens\, TX 75751\, US
DESCRIPTION:Malakoff\, Texas The 11\,831+/- acres Texas Farm & Ranch locat
 ed on the rolling hills of eastern Texas\, offers a buyer the
  opportunity to purchase native ranchland and imporved coast
 al bermuda pastures and over 2\,500 acres of tillable farmlan
 d. The miles of Trinity River and Cedar Creek frontage creat
 e an excellent Deer\, Duck and Hog hunting environment. Locat
 ed within two hours of Dallas and Houston\, there are small t
 racts available for commercial and residential development. 
 The Property will be offered in 16 Tracts & Combinations fro
 m 1.2+/- Acres to 2\,104+/- Acres
URL:https://www.nichollsauction.com/auctions/detail/11831-acres-
 of-east-texas-farm-ranch-land-bw15377
SEQUENCE:1
END:VEVENT
END:VCALENDAR