BEGIN:VCALENDAR
VERSION:2.0
PRODID:-//ExpressionEngine Easy iCalendar plugin//NONSGML v2.0.0//EN
X-WR-TIMEZONE:America/Denver
X-WR-CALNAME:Upcoming Auctions
BEGIN:VEVENT
UID:15374
DTSTAMP:20171019T100000
DTSTART:20171019T100000
DTEND:20171019T110000
SUMMARY:Bowen Arrow Ranch—8\,735 +/- Total Acres
LOCATION:64001 US Highway 36\, Byers\, CO 80103\, US
DESCRIPTION:The Bowen Arrow Ranch is comprised of 8\,735+/- acres of prim
 e Adams\, Weld\, & Washington County farm and ranch land. The 
 farmland will add well to an existing operation or investmen
 t portfolio and buyers will find the ranchland to be maintai
 ned and cattle ready.  The property also boasts good road f
 rontage with excellent development potential.   The Propert
 y will be offered in 26 Tracts & Combinations from 40+/- to 
 1\,460+/- acresThe Bowen Arrow Ranch is comprised of 8\,735+/-
  acres of prime Adams\, Weld\, & Washington County farm and ra
 nch land. The farmland will add well to an existing operatio
 n or investment portfolio and buyers will find the ranchland
  to be maintained and cattle ready.  The property also boas
 ts good road frontage with excellent development potential. 
   The Property will be offered in 26 Tracts & Combinations 
 from 40+/- to 1\,460+/- acres
URL:https://www.nichollsauction.com/auctions/detail/bowen-arrow-
 ranch8735-total-acres-bw15374
SEQUENCE:1
END:VEVENT
END:VCALENDAR