BEGIN:VCALENDAR
VERSION:2.0
PRODID:-//ExpressionEngine Easy iCalendar plugin//NONSGML v2.0.1//EN
X-WR-TIMEZONE:America/New_York
X-WR-CALNAME:Upcoming Auctions
BEGIN:VEVENT
UID:158178
DTSTAMP:20260421T153000
DTSTART:20260421T153000
DTEND:20260421T163000
SUMMARY:4 BR/3 BA Custom Built Home w/Basement on 5.2 +/- Acres in M
 adison County\, VA
LOCATION:211 Lonnie Burke Rd.\, Madison\, VA 22727\, US
DESCRIPTION:211 Lonnie Burke Rd.\, Madison\, VA 22727 Solid Custom Built H
 ome w/Acreage & Privacy in Madison County\, VA!! Custom bui
 lt 4 BR/3 BA Home (Greystone Homes) -- Partially finished ba
 sement w/bedroom & bathroom -- Attached garage -- Large rear
  deck & screened porch -- Located only .7 off of Rt. 29\, 3 
 miles from downtown Madison\, 15 miles from Culpeper\, 21 mile
 s from Orange\, and only a short drive to Charlottesville\, F
 redericksburg\, Harrisonburg & Warrenton\, VA!! Live on-site a
 uction & also providing live real time online simulcast bidd
 ing for your convenience!! Only $300\,000 Starting Bid!!  Ne
 ed a Mortgage?...Just click on one of the lenders in the "Fi
 nancing" section to get started!!
URL:https://www.nichollsauction.com/auctions/detail/bw158178
SEQUENCE:1
END:VEVENT
END:VCALENDAR